BEGIN:VCALENDAR
VERSION:2.0
PRODID:-//Dance all night - nauka tańca - ECPv6.15.20//NONSGML v1.0//EN
CALSCALE:GREGORIAN
METHOD:PUBLISH
X-WR-CALNAME:Dance all night - nauka tańca
X-ORIGINAL-URL:https://danceallnight.pl
X-WR-CALDESC:Wydarzenia dla Dance all night - nauka tańca
REFRESH-INTERVAL;VALUE=DURATION:PT1H
X-Robots-Tag:noindex
X-PUBLISHED-TTL:PT1H
BEGIN:VTIMEZONE
TZID:UTC
BEGIN:STANDARD
TZOFFSETFROM:+0000
TZOFFSETTO:+0000
TZNAME:UTC
DTSTART:20240101T000000
END:STANDARD
END:VTIMEZONE
BEGIN:VEVENT
DTSTART;TZID=UTC:20250705T090000
DTEND;TZID=UTC:20250705T173000
DTSTAMP:20260420T144320
CREATED:20250703T172212Z
LAST-MODIFIED:20250703T182127Z
UID:733-1751706000-1751736600@danceallnight.pl
SUMMARY:Zouk Experience | Wrocław
DESCRIPTION:Już w sobotę zapraszam na zajęcia Zouk Solo – Funky Style podczas festiwalu Wrocław Zouk Experience! To idealny sposób na energetyczne rozpoczęcie całonocnej imprezy!   Jeszcze nie bierzesz udziału w festiwalu? Dołącz do nas: Warsztaty z międzynarodowymi i lokalnymi instruktorami – nauczyciele z całego świata podzielą się swoją pasją\, umiejętnościami i doświadczeniem! Ania & KassioMayara & DenisMarta & Bart Imprezy Zouk/Lambada – wieczorne zabawy z doskonałą muzyką\, świetną atmosferą i niezapomnianymi emocjami!
URL:https://danceallnight.pl/wydarzenie/zouk-experience-wroclaw/
ATTACH;FMTTYPE=image/jpeg:https://danceallnight.pl/wp-content/uploads/2025/07/502630117_122120387834820804_1847604462594270134_n.jpg
END:VEVENT
END:VCALENDAR